BEGIN:VCALENDAR
VERSION:2.0
PRODID:-//Art in the Park - ECPv6.15.20//NONSGML v1.0//EN
CALSCALE:GREGORIAN
METHOD:PUBLISH
X-ORIGINAL-URL:https://artintheparkla.org
X-WR-CALDESC:Events for Art in the Park
REFRESH-INTERVAL;VALUE=DURATION:PT1H
X-Robots-Tag:noindex
X-PUBLISHED-TTL:PT1H
BEGIN:VTIMEZONE
TZID:America/Los_Angeles
BEGIN:DAYLIGHT
TZOFFSETFROM:-0800
TZOFFSETTO:-0700
TZNAME:PDT
DTSTART:20240310T100000
END:DAYLIGHT
BEGIN:STANDARD
TZOFFSETFROM:-0700
TZOFFSETTO:-0800
TZNAME:PST
DTSTART:20241103T090000
END:STANDARD
BEGIN:DAYLIGHT
TZOFFSETFROM:-0800
TZOFFSETTO:-0700
TZNAME:PDT
DTSTART:20250309T100000
END:DAYLIGHT
BEGIN:STANDARD
TZOFFSETFROM:-0700
TZOFFSETTO:-0800
TZNAME:PST
DTSTART:20251102T090000
END:STANDARD
BEGIN:DAYLIGHT
TZOFFSETFROM:-0800
TZOFFSETTO:-0700
TZNAME:PDT
DTSTART:20260308T100000
END:DAYLIGHT
BEGIN:STANDARD
TZOFFSETFROM:-0700
TZOFFSETTO:-0800
TZNAME:PST
DTSTART:20261101T090000
END:STANDARD
END:VTIMEZONE
BEGIN:VEVENT
DTSTART;TZID=America/Los_Angeles:20251122T160000
DTEND;TZID=America/Los_Angeles:20251122T170000
DTSTAMP:20260421T013739
CREATED:20251020T051357Z
LAST-MODIFIED:20251021T052105Z
UID:4826-1763827200-1763830800@artintheparkla.org
SUMMARY:Lunar Rhythms from Soil to Sky
DESCRIPTION:Join Gloria Galvez\, Lucia Fabio\, and Leslie Ross-Robertson for a one-hour panel exploring the moon’s influence from the earth to the sky. The discussion will examine lunar cycles’ impact on planting\, nocturnal wildlife\, and how these rhythms resonate in our creative and natural lives. \nLeslie will also share how her moon print became the starting point for her eight-year Planetary Resonance series\, reflecting the connection between cosmic patterns and life on Earth.
URL:https://artintheparkla.org/event/lunar-rhythms-from-soil-to-sky/
LOCATION:Art in the Park\, 5568 Via Marisol Avenue\, Los Angeles\, CA\, 90042\, United States
ATTACH;FMTTYPE=image/jpeg:https://artintheparkla.org/wp-content/uploads/2025/10/ross-robertson-moon_bottom_bar.jpg
END:VEVENT
END:VCALENDAR