BEGIN:VCALENDAR
VERSION:2.0
PRODID:-//Art in the Park - ECPv6.15.20//NONSGML v1.0//EN
CALSCALE:GREGORIAN
METHOD:PUBLISH
X-WR-CALNAME:Art in the Park
X-ORIGINAL-URL:https://artintheparkla.org
X-WR-CALDESC:Events for Art in the Park
REFRESH-INTERVAL;VALUE=DURATION:PT1H
X-Robots-Tag:noindex
X-PUBLISHED-TTL:PT1H
BEGIN:VTIMEZONE
TZID:America/Los_Angeles
BEGIN:DAYLIGHT
TZOFFSETFROM:-0800
TZOFFSETTO:-0700
TZNAME:PDT
DTSTART:20180311T100000
END:DAYLIGHT
BEGIN:STANDARD
TZOFFSETFROM:-0700
TZOFFSETTO:-0800
TZNAME:PST
DTSTART:20181104T090000
END:STANDARD
BEGIN:DAYLIGHT
TZOFFSETFROM:-0800
TZOFFSETTO:-0700
TZNAME:PDT
DTSTART:20190310T100000
END:DAYLIGHT
BEGIN:STANDARD
TZOFFSETFROM:-0700
TZOFFSETTO:-0800
TZNAME:PST
DTSTART:20191103T090000
END:STANDARD
BEGIN:DAYLIGHT
TZOFFSETFROM:-0800
TZOFFSETTO:-0700
TZNAME:PDT
DTSTART:20200308T100000
END:DAYLIGHT
BEGIN:STANDARD
TZOFFSETFROM:-0700
TZOFFSETTO:-0800
TZNAME:PST
DTSTART:20201101T090000
END:STANDARD
BEGIN:DAYLIGHT
TZOFFSETFROM:-0800
TZOFFSETTO:-0700
TZNAME:PDT
DTSTART:20210314T100000
END:DAYLIGHT
BEGIN:STANDARD
TZOFFSETFROM:-0700
TZOFFSETTO:-0800
TZNAME:PST
DTSTART:20211107T090000
END:STANDARD
BEGIN:DAYLIGHT
TZOFFSETFROM:-0800
TZOFFSETTO:-0700
TZNAME:PDT
DTSTART:20220313T100000
END:DAYLIGHT
BEGIN:STANDARD
TZOFFSETFROM:-0700
TZOFFSETTO:-0800
TZNAME:PST
DTSTART:20221106T090000
END:STANDARD
BEGIN:DAYLIGHT
TZOFFSETFROM:-0800
TZOFFSETTO:-0700
TZNAME:PDT
DTSTART:20230312T100000
END:DAYLIGHT
BEGIN:STANDARD
TZOFFSETFROM:-0700
TZOFFSETTO:-0800
TZNAME:PST
DTSTART:20231105T090000
END:STANDARD
BEGIN:DAYLIGHT
TZOFFSETFROM:-0800
TZOFFSETTO:-0700
TZNAME:PDT
DTSTART:20240310T100000
END:DAYLIGHT
BEGIN:STANDARD
TZOFFSETFROM:-0700
TZOFFSETTO:-0800
TZNAME:PST
DTSTART:20241103T090000
END:STANDARD
BEGIN:DAYLIGHT
TZOFFSETFROM:-0800
TZOFFSETTO:-0700
TZNAME:PDT
DTSTART:20250309T100000
END:DAYLIGHT
BEGIN:STANDARD
TZOFFSETFROM:-0700
TZOFFSETTO:-0800
TZNAME:PST
DTSTART:20251102T090000
END:STANDARD
BEGIN:DAYLIGHT
TZOFFSETFROM:-0800
TZOFFSETTO:-0700
TZNAME:PDT
DTSTART:20260308T100000
END:DAYLIGHT
BEGIN:STANDARD
TZOFFSETFROM:-0700
TZOFFSETTO:-0800
TZNAME:PST
DTSTART:20261101T090000
END:STANDARD
END:VTIMEZONE
BEGIN:VEVENT
DTSTART;TZID=America/Los_Angeles:20250426T160000
DTEND;TZID=America/Los_Angeles:20250426T170000
DTSTAMP:20260420T042013
CREATED:20250425T075822Z
LAST-MODIFIED:20250425T075916Z
UID:4584-1745683200-1745686800@artintheparkla.org
SUMMARY:Big Read Celebration – Puppet Show and Film Screening
DESCRIPTION:We’re presenting works inspired by the books for this year’s Big Read \nScreening of animations made to accompany original songs of Home by Community Band\, Latin Jazz Band and Rafeal Rafel Bustamante. \nWishes\, a puppet show inspired by the book Carmela Full of Wishes by Matt de la Peña with illustrations by Christian Robinson\, a companion book for very young readers. \n 
URL:https://artintheparkla.org/event/big-read-celebration-puppet-show-and-film-screening/
LOCATION:Art in the Park\, 5568 Via Marisol Avenue\, Los Angeles\, CA\, 90042\, United States
CATEGORIES:Concert,The Big Read
ATTACH;FMTTYPE=image/jpeg:https://artintheparkla.org/wp-content/uploads/2025/04/puppet.jpg
END:VEVENT
BEGIN:VEVENT
DTSTART;TZID=America/Los_Angeles:20231102T153000
DTEND;TZID=America/Los_Angeles:20231102T170000
DTSTAMP:20260420T042013
CREATED:20231001T195414Z
LAST-MODIFIED:20231001T232800Z
UID:2353-1698939000-1698944400@artintheparkla.org
SUMMARY:Dia de Los Muertos
DESCRIPTION:Family workshops and community altar for Dia de Los Muertos at Art in the Park \nWE WILL BE HONORING OUR ANCESTORS  \nNovember 2nd\, from 4pm – 9pm :\nCommunity altar presentation and tin embossing\, with live music \nWe’re having family workshops every week\, leading up to a community altar for Dia de Los Muertos\, with Berta and Stan Sosa. \nThursdays\, through November 2nd\, 2023\, from 3:30pm – 5:30pm\nAll workshops are free\, with RSVP. \nFree\, with RSVP. Email  info@artintheparkla.org/ or use the sign-up form: https://forms.gle/aQAAF7oNgEP17ctN9 \nWorkshops led by Berta and Stan Sosa with community teaching artists \nLets help keep each other healthy please stay home if you have any flu like or COVID symptoms.
URL:https://artintheparkla.org/event/dia-de-los-muertos-7/
LOCATION:Art in the Park\, 5568 Via Marisol Avenue\, Los Angeles\, CA\, 90042\, United States
CATEGORIES:Concert,Día de Los Muertos,Workshop
ATTACH;FMTTYPE=application/pdf:https://artintheparkla.org/wp-content/uploads/2023/10/Copy-of-Copy-of-Purple-Festive-Day-of-the-Dead-Instagram-Post-8.5-×-11-in-Facebook-Post-Landscape-Logo-Presentation-169.pdf
END:VEVENT
BEGIN:VEVENT
DTSTART;TZID=America/Los_Angeles:20231015T140000
DTEND;TZID=America/Los_Angeles:20231015T153000
DTSTAMP:20260420T042013
CREATED:20230317T011001Z
LAST-MODIFIED:20231001T170151Z
UID:2186-1697378400-1697383800@artintheparkla.org
SUMMARY:Jazz in the Park
DESCRIPTION:Jazz in the Park  \nCome picnic in the park with some live jazz  at Art in The Park. \nPlaying some of jazz’s most iconic standards\, the group invites you to enjoy a lazy Sunday afternoon in beautiful Hermon Park. \nOctober 15th \n2pm \nAt Art in the Park\, 5568 Via Marisol Ave\, Los Angeles\, California\, 90042 \nBand will be playing outside Art in the Park — lots of space to spread out on the grass under the trees. \nArt in the Park is a proud partner of the Los Angeles Department of Cultural Affairs.
URL:https://artintheparkla.org/event/jazz-in-the-park-2/
LOCATION:Art in the Park\, 5568 Via Marisol Avenue\, Los Angeles\, CA\, 90042\, United States
CATEGORIES:Jazz in the Park
ATTACH;FMTTYPE=image/jpeg:https://artintheparkla.org/wp-content/uploads/2023/03/Jazz-in-the-Park-_WEB-scaled.jpg
ORGANIZER;CN="Art in the Park":MAILTO:info@artintheparkla.org
END:VEVENT
BEGIN:VEVENT
DTSTART;TZID=America/Los_Angeles:20230430T140000
DTEND;TZID=America/Los_Angeles:20230430T153000
DTSTAMP:20260420T042013
CREATED:20230317T011001Z
LAST-MODIFIED:20230317T011530Z
UID:1988-1682863200-1682868600@artintheparkla.org
SUMMARY:Jazz in the Park
DESCRIPTION:Jazz in the Park  \nCome picnic in the park with some live jazz on the porch at Art in The Park. \nPlaying some of jazz’s most iconic standards\, the group invites you to enjoy a lazy Sunday afternoon in beautiful Hermon Park. \nApril 30th \n2pm \nAt Art in the Park\, 5568 Via Marisol Ave\, Los Angeles\, California\, 90042 \nBand will be playing from the porch of the building — lots of space to spread out on the grass under the trees. \nLet’s keep each other healthy\, please stay home if you feel unwell or have any potential covid symptoms. \nArt in the Park is a proud partner of the Los Angeles Department of Cultural Affairs.
URL:https://artintheparkla.org/event/jazz-in-the-park/
LOCATION:Art in the Park\, 5568 Via Marisol Avenue\, Los Angeles\, CA\, 90042\, United States
CATEGORIES:Jazz in the Park
ATTACH;FMTTYPE=image/jpeg:https://artintheparkla.org/wp-content/uploads/2023/03/Jazz-in-the-Park-_WEB-scaled.jpg
ORGANIZER;CN="Art in the Park":MAILTO:info@artintheparkla.org
END:VEVENT
BEGIN:VEVENT
DTSTART;TZID=America/Los_Angeles:20230325T110000
DTEND;TZID=America/Los_Angeles:20230325T130000
DTSTAMP:20260420T042013
CREATED:20230228T224257Z
LAST-MODIFIED:20230316T235903Z
UID:1819-1679742000-1679749200@artintheparkla.org
SUMMARY:Community Band
DESCRIPTION:Community Band with Logan Hone is held outside in Hermon Park most Saturday\, as a series of creative musical sessions and concerts. Musicians of all skill levels\, ages\, & backgrounds are invited to join the band in learning an eclectic mix of music\, including jazz\, latin\, folk\, & original material. Participation is free. Bring your instrument\, water\, and snacks. Percussion instruments are provided.
URL:https://artintheparkla.org/event/community-band-2023-03-25/
LOCATION:Art in the Park\, 5568 Via Marisol Avenue\, Los Angeles\, CA\, 90042\, United States
CATEGORIES:Community Band,Concert
ATTACH;FMTTYPE=image/png:https://artintheparkla.org/wp-content/uploads/2023/02/artinthepark_poster_band.png
END:VEVENT
BEGIN:VEVENT
DTSTART;TZID=America/Los_Angeles:20221030T130000
DTEND;TZID=America/Los_Angeles:20221030T143000
DTSTAMP:20260420T042013
CREATED:20220705T215033Z
LAST-MODIFIED:20220804T185913Z
UID:1424-1667134800-1667140200@artintheparkla.org
SUMMARY:Jazz in the Park
DESCRIPTION:Picnic in the park with some live jazz on the porch at Art in The Park. \nPlaying some of jazz’s most iconic standards\, the group invites you to enjoy a lazy Sunday afternoon in beautiful Hermon Park\, October 30th at 1pm \nAt Art in the Park\, 5568 Via Marisol Ave\, Los Angeles\, California\, 90042 \nBand will be playing from the porch of the building — lots of space to spread out on the grass under the trees. \nLet’s keep each other healthy\, please stay home if you feel unwell or have any potential covid symptoms. \nArt in the Park is a proud partner of the Los Angeles Department of Cultural Affairs. \n  \n 
URL:https://artintheparkla.org/event/jazz-in-the-park-221030/
LOCATION:Art in the Park\, 5568 Via Marisol Avenue\, Los Angeles\, CA\, 90042\, United States
CATEGORIES:Concert,Jazz in the Park
ATTACH;FMTTYPE=image/jpeg:https://artintheparkla.org/wp-content/uploads/2022/07/20220514_212857-scaled.jpg
END:VEVENT
BEGIN:VEVENT
DTSTART;TZID=America/Los_Angeles:20221002T130000
DTEND;TZID=America/Los_Angeles:20221002T143000
DTSTAMP:20260420T042013
CREATED:20220705T215033Z
LAST-MODIFIED:20220719T231756Z
UID:1422-1664715600-1664721000@artintheparkla.org
SUMMARY:Jazz in the Park
DESCRIPTION:Picnic in the park with some live jazz on the porch at Art in The Park. \nPlaying some of jazz’s most iconic standards\, the group invites you to enjoy a lazy Sunday afternoon in beautiful Hermon Park on October 2 at 1pm. \nFree! All ages! \nAt Art in the Park\, 5568 Via Marisol Ave\, Los Angeles\, California\, 90042 \nBand will be playing from the porch of the building — lots of space to spread out on the grass under the trees. \nLet’s keep each other healthy\, please stay home if you feel unwell or have any potential covid symptoms. \nOur next Jazz on the Porch will be: 10/30 – 1pm \nArt in the Park is a proud partner of the Los Angeles Department of Cultural Affairs. \n  \n 
URL:https://artintheparkla.org/event/jazz-in-the-park-221002/
LOCATION:Art in the Park\, 5568 Via Marisol Avenue\, Los Angeles\, CA\, 90042\, United States
CATEGORIES:Concert,Jazz in the Park
ATTACH;FMTTYPE=image/jpeg:https://artintheparkla.org/wp-content/uploads/2022/07/20220514_212857-scaled.jpg
END:VEVENT
BEGIN:VEVENT
DTSTART;TZID=America/Los_Angeles:20220807T130000
DTEND;TZID=America/Los_Angeles:20220807T143000
DTSTAMP:20260420T042013
CREATED:20220705T215033Z
LAST-MODIFIED:20220804T185844Z
UID:1420-1659877200-1659882600@artintheparkla.org
SUMMARY:Jazz in the Park
DESCRIPTION:Picnic in the park with some live jazz on the porch at Art in The Park. \nPlaying some of jazz’s most iconic standards\, the group invites you to enjoy a lazy Sunday afternoon in beautiful Hermon Park\, August 7 at 1pm \nFree! All ages! \nAt Art in the Park\, 5568 Via Marisol Ave\, Los Angeles\, California\, 90042 \nBand will be playing from the porch of the building — lots of space to spread out on the grass under the trees. \nLet’s keep each other healthy\, please stay home if you feel unwell or have any potential covid symptoms. \nOur next Jazz on the Porch will be: \n\n10/2 – 1pm\n10/30 – 1pm\n\nArt in the Park is a proud partner of the Los Angeles Department of Cultural Affairs. \n  \n 
URL:https://artintheparkla.org/event/jazz-in-the-park-220807/
LOCATION:Art in the Park\, 5568 Via Marisol Avenue\, Los Angeles\, CA\, 90042\, United States
CATEGORIES:Concert,Jazz in the Park
ATTACH;FMTTYPE=image/jpeg:https://artintheparkla.org/wp-content/uploads/2022/07/IMG_9644.jpg
END:VEVENT
BEGIN:VEVENT
DTSTART;TZID=America/Los_Angeles:20220724T130000
DTEND;TZID=America/Los_Angeles:20220724T143000
DTSTAMP:20260420T042013
CREATED:20220705T215033Z
LAST-MODIFIED:20220719T232029Z
UID:1413-1658667600-1658673000@artintheparkla.org
SUMMARY:Jazz in the Park
DESCRIPTION:Picnic in the park with some live jazz on the porch at Art in The Park. \nPlaying some of jazz’s most iconic standards\, the group invites you to enjoy a lazy Sunday afternoon in beautiful Hermon Park\, Saturday July 24 at 1pm. \nFree! All ages! \nAt Art in the Park\, 5568 Via Marisol Ave\, Los Angeles\, California\, 90042 \nBand will be playing from the porch of the building — lots of space to spread out on the grass under the trees. \nLet’s keep each other healthy\, please stay home if you feel unwell or have any potential covid symptoms. \nThe next Jazz on the Porch will be: \n\n8/7 – 1pm\n10/2 – 1pm\n10/30 – 1pm\n\nArt in the Park is a proud partner of the Los Angeles Department of Cultural Affairs. \n  \n 
URL:https://artintheparkla.org/event/jazz-220724/
LOCATION:Art in the Park\, 5568 Via Marisol Avenue\, Los Angeles\, CA\, 90042\, United States
CATEGORIES:Concert,Jazz in the Park
ATTACH;FMTTYPE=image/jpeg:https://artintheparkla.org/wp-content/uploads/2022/07/20220514_212857-scaled.jpg
END:VEVENT
BEGIN:VEVENT
DTSTART;TZID=America/Los_Angeles:20191012T100000
DTEND;TZID=America/Los_Angeles:20191012T140000
DTSTAMP:20260420T042013
CREATED:20210207T003611Z
LAST-MODIFIED:20210327T065630Z
UID:225-1570874400-1570888800@artintheparkla.org
SUMMARY:Lawn Bowling 1939
DESCRIPTION:Highland Park Heritage Trust in cooperation with Art In The Park presents: \nJoin us for an examination and celebration of Hermon’s historic Lawn Bowling clubhouse.  \nFeaturing: \n\nA discussion on the building’s architectural and social history\, by architectural historian Alexandra Madsen (HPHT Vice President)\nLawn Bowling instruction and open Bocce Ball play in Hermon Park surrounding the clubhouse\nSpecial 1939 inspired refreshments by local food artist Jasmine Sarp\nPeriod inspired music by Art in the Park’s Community Band\, directed by Logan Hone\nA Lawn Bowling inspired art class for kids and adults \n\nFREE and open to the public \nWhen: \nSaturday October 12\, 2019\n10am-2pm\n(Inside Hermon Park\, past the back tennis courts) \nSupport provided by the Hermon Neighborhood Council
URL:https://artintheparkla.org/event/lawn-bowling-1939/
LOCATION:Art in the Park\, 5568 Via Marisol Avenue\, Los Angeles\, CA\, 90042\, United States
CATEGORIES:Activity,Concert
ATTACH;FMTTYPE=image/jpeg:https://artintheparkla.org/wp-content/uploads/2021/02/lawnbowling1939-16_9.jpg
END:VEVENT
BEGIN:VEVENT
DTSTART;TZID=America/Los_Angeles:20190825T140000
DTEND;TZID=America/Los_Angeles:20190825T170000
DTSTAMP:20260420T042013
CREATED:20210211T075810Z
LAST-MODIFIED:20210223T075540Z
UID:334-1566741600-1566752400@artintheparkla.org
SUMMARY:Concert - Jeff Parker\, Pegasus Warning
DESCRIPTION:
URL:https://artintheparkla.org/event/concert-jeff-parker-pegasus-warning/
LOCATION:CA
CATEGORIES:Concert
ATTACH;FMTTYPE=image/jpeg:https://artintheparkla.org/wp-content/uploads/2021/02/concert-20190825-3.jpg
END:VEVENT
BEGIN:VEVENT
DTSTART;TZID=America/Los_Angeles:20190728T140000
DTEND;TZID=America/Los_Angeles:20190728T170000
DTSTAMP:20260420T042013
CREATED:20210211T060359Z
LAST-MODIFIED:20210223T071450Z
UID:332-1564322400-1564333200@artintheparkla.org
SUMMARY:Concert - LA Fog\, Very Be Careful
DESCRIPTION:
URL:https://artintheparkla.org/event/concert-la-fog-very-be-careful/
LOCATION:Art in the Park\, 5568 Via Marisol Avenue\, Los Angeles\, CA\, 90042\, United States
CATEGORIES:Concert
ATTACH;FMTTYPE=image/jpeg:https://artintheparkla.org/wp-content/uploads/2021/02/concert-laf_vbc-3300.jpg
END:VEVENT
END:VCALENDAR