BEGIN:VCALENDAR
VERSION:2.0
PRODID:-//Art in the Park - ECPv6.15.20//NONSGML v1.0//EN
CALSCALE:GREGORIAN
METHOD:PUBLISH
X-ORIGINAL-URL:https://artintheparkla.org
X-WR-CALDESC:Events for Art in the Park
REFRESH-INTERVAL;VALUE=DURATION:PT1H
X-Robots-Tag:noindex
X-PUBLISHED-TTL:PT1H
BEGIN:VTIMEZONE
TZID:America/Los_Angeles
BEGIN:DAYLIGHT
TZOFFSETFROM:-0800
TZOFFSETTO:-0700
TZNAME:PDT
DTSTART:20250309T100000
END:DAYLIGHT
BEGIN:STANDARD
TZOFFSETFROM:-0700
TZOFFSETTO:-0800
TZNAME:PST
DTSTART:20251102T090000
END:STANDARD
BEGIN:DAYLIGHT
TZOFFSETFROM:-0800
TZOFFSETTO:-0700
TZNAME:PDT
DTSTART:20260308T100000
END:DAYLIGHT
BEGIN:STANDARD
TZOFFSETFROM:-0700
TZOFFSETTO:-0800
TZNAME:PST
DTSTART:20261101T090000
END:STANDARD
BEGIN:DAYLIGHT
TZOFFSETFROM:-0800
TZOFFSETTO:-0700
TZNAME:PDT
DTSTART:20270314T100000
END:DAYLIGHT
BEGIN:STANDARD
TZOFFSETFROM:-0700
TZOFFSETTO:-0800
TZNAME:PST
DTSTART:20271107T090000
END:STANDARD
END:VTIMEZONE
BEGIN:VEVENT
DTSTART;TZID=America/Los_Angeles:20260221T110000
DTEND;TZID=America/Los_Angeles:20260221T110000
DTSTAMP:20260420T024629
CREATED:20230228T224257Z
LAST-MODIFIED:20260220T181829Z
UID:4964-1771671600-1771671600@artintheparkla.org
SUMMARY:Community Band
DESCRIPTION:COMMUNITY BAND IN THE PARK\n\n\nCommunity Band at Hermon Park is held outside in the park each Saturday\, as a series of creative musical sessions and concerts started by Logan Hone and led by Stwert Wheeler. Musicians of all skill levels\, ages\, & backgrounds are invited to join the band in learning an eclectic mix of music\, including jazz\, latin\, folk\, & original material. Participation is FREE. Bring your instrument and water. Percussion instruments are provided. \nWhen: Most Saturdays\, 11am-1pm \n Check IG @artintheparkla for updates \nWhere: Hermon Park\, 5568 Via Marisol\, LA\, CA 90042  \n(next to the Art in the Park building near far tennis courts) \n Questions? Feel free to contact info@artintheparkla.org \nCommunity Band is made possible through a partnership between Art in the Park and Neighborhood Music school.  \nHeath and Safety: \nThe Community Band will be held outside on days with good weather. On days with excessive heat or rain\, the Community Band will be held indoors. Please check our website for updated info.  \nLets help keep each other healty please stay home if you have cold\, flu\, or covid symptoms. \nAITP is a partner site of the Los Angeles Department of Cultural Affairs.
URL:https://artintheparkla.org/event/community-band-111/
LOCATION:Art in the Park\, 5568 Via Marisol Avenue\, Los Angeles\, CA\, 90042\, United States
CATEGORIES:Community Band
ATTACH;FMTTYPE=image/png:https://artintheparkla.org/wp-content/uploads/2023/02/artinthepark_poster_band.png
ORGANIZER;CN="Art in the Park":MAILTO:info@artintheparkla.org
END:VEVENT
BEGIN:VEVENT
DTSTART;TZID=America/Los_Angeles:20260221T110000
DTEND;TZID=America/Los_Angeles:20260221T130000
DTSTAMP:20260420T024629
CREATED:20230228T222429Z
LAST-MODIFIED:20260220T180951Z
UID:5040-1771671600-1771678800@artintheparkla.org
SUMMARY:Community - Arts Happy Lunar - Year of the Fire Horse
DESCRIPTION:Community Arts  \nCommunity Arts is held outside in Hermon Park most Saturdays. Join us in exploring the arts\, from puppets to painting. \n\nMost Saturdays from 11 am–1pm  \nFree\, all ages  \nHappy Lunar New Year!  \nThe Lunar New Year is a celebration based on the moon calendar and is widely observed in countries like China\, Vietnam\, and Korea. It marks the beginning of a new zodiac year in the 12-animal cycle. \nThe Year of the Fire Horse combines the Horse (the 7th animal in the Chinese zodiac) with the Fire element. The Horse symbolizes energy\, freedom\, and determination\, while Fire adds passion\, boldness\, and strong leadership. In the zodiac order\, the Horse comes after the Snake and before the Goat (Sheep)—each year flowing into the next in a repeating cycle. \nTo celebrate\, we’ll be making bright\, fiery horses out of cardboard\, paint\, and paper—perfect for welcoming a year full of movement\, creativity\, and spark!  \nAll the zodiac animals are connected in one big circle\, and they also share five elements (Wood\, Fire\, Earth\, Metal\, Water) that move in a repeating pattern. Each year doesn’t stand alone — it grows out of the year before it and helps shape the year after it. \nLast year (2025\, the Wood Snake) was about thinking carefully\, learning\, and making smart plans — like planting seeds. This year (2026\, the Fire Horse) is full of energy and action\, so it’s a great year for trying new things\, being brave\, starting projects\, and moving forward with those plans. Next year (2027\, the Fire Goat) keeps some of that Fire energy\, but in a gentler way — it helps us turn our hard work into creativity\, teamwork\, and making beautiful things together. \nSo you can think of it like this: \nLast year we planned and planted.This year we run and grow.Next year we create and share. \nLet’s keep each other healthy\, please stay home if you feel unwell or have any potential Covid symptoms. If the weather is extreme due to high heat or rain\, Community Arts will be canceled.
URL:https://artintheparkla.org/event/community-arts-happy-luner-year-of-the-fire-fire-horse/
LOCATION:Art in the Park\, 5568 Via Marisol Avenue\, Los Angeles\, CA\, 90042\, United States
CATEGORIES:Community Arts
ATTACH;FMTTYPE=image/jpeg:https://artintheparkla.org/wp-content/uploads/2023/02/IMG_8219.jpg
END:VEVENT
END:VCALENDAR